BEGIN:VCALENDAR
VERSION:2.0
PRODID:-//Κοσμητεία Σχολής Κλασικών και Ανθρωπιστικών Σπουδών - ECPv6.15.17.1//NONSGML v1.0//EN
CALSCALE:GREGORIAN
METHOD:PUBLISH
X-WR-CALNAME:Κοσμητεία Σχολής Κλασικών και Ανθρωπιστικών Σπουδών
X-ORIGINAL-URL:https://classic.duth.gr
X-WR-CALDESC:Events for Κοσμητεία Σχολής Κλασικών και Ανθρωπιστικών Σπουδών
REFRESH-INTERVAL;VALUE=DURATION:PT1H
X-Robots-Tag:noindex
X-PUBLISHED-TTL:PT1H
BEGIN:VTIMEZONE
TZID:Europe/Helsinki
BEGIN:DAYLIGHT
TZOFFSETFROM:+0200
TZOFFSETTO:+0300
TZNAME:EEST
DTSTART:20230326T010000
END:DAYLIGHT
BEGIN:STANDARD
TZOFFSETFROM:+0300
TZOFFSETTO:+0200
TZNAME:EET
DTSTART:20231029T010000
END:STANDARD
BEGIN:DAYLIGHT
TZOFFSETFROM:+0200
TZOFFSETTO:+0300
TZNAME:EEST
DTSTART:20240331T010000
END:DAYLIGHT
BEGIN:STANDARD
TZOFFSETFROM:+0300
TZOFFSETTO:+0200
TZNAME:EET
DTSTART:20241027T010000
END:STANDARD
BEGIN:DAYLIGHT
TZOFFSETFROM:+0200
TZOFFSETTO:+0300
TZNAME:EEST
DTSTART:20250330T010000
END:DAYLIGHT
BEGIN:STANDARD
TZOFFSETFROM:+0300
TZOFFSETTO:+0200
TZNAME:EET
DTSTART:20251026T010000
END:STANDARD
END:VTIMEZONE
BEGIN:VEVENT
DTSTART;TZID=Europe/Helsinki:20240626T190000
DTEND;TZID=Europe/Helsinki:20240626T210000
DTSTAMP:20260420T142421
CREATED:20240619T100106Z
LAST-MODIFIED:20240619T100106Z
UID:11424-1719428400-1719435600@classic.duth.gr
SUMMARY:Η δράση της Σχολής Κλασικών και Ανθρωπιστικών Σπουδών του ΔΠΘ  κατά το ακαδημαϊκό έτος 2023-2024 26 Ιουνίου 2024 – ώρα 19.00
DESCRIPTION:Η Σχολή Κλασικών και Ανθρωπιστικών Σπουδών του Δημοκριτείου Πανεπιστημίου Θράκης\, ο «Παρατηρητής της Θράκης» και η Δημοτική Βιβλιοθήκη Κομοτηνής\, στο πλαίσιο των δράσεων της Βιβλιοθήκης και της ΚΟΙΝ.Σ.ΕΠ. «Κομοτηνή Εν Δράσει»\, σας προσκαλούν στην εκδήλωση Η δράση της Σχολής Κλασικών και Ανθρωπιστικών Σπουδών του ΔΠΘ κατά το ακαδημαϊκό έτος 2023-2024\, που θα πραγματοποιηθεί στη Δημοτική Βιβλιοθήκη Κομοτηνής (Τσανάκλειο Μέγαρο)\, την Τετάρτη 26 Ιουνίου 2024 και ώρα 19.00.  Η εκδήλωση γίνεται με τη στήριξη του Europe Direct Ανατολικής Μακεδονίας και Θράκης/ΔΠΘ \n  \nΘΑ ΠΡΟΣΦΩΝΗΣΟΥΝ ΟΙ: \nΚαθηγητής Φώτιος Μάρης\, Πρύτανης ΔΠΘ \nΚαθηγητής Μανόλης Γ. Βαρβούνης\, Κοσμήτορας ΣΚΑΣ/ΔΠΘ \n  \nΜΕΡΟΣ Α΄ \nΠαρουσίαση του τρίτου τόμου (2023-2024) της Επιστημονικής Επετηρίδας της ΣΚΑΣ  \n  \nΟΜΙΛΗΤΕΣ \nΘανάσης Β. Κούγκουλος\, Επ. Καθηγητής Τμήματος Ιστορίας και Εθνολογίας ΔΠΘ \nΤα συνέδρια της ΣΚΑΣ για τη Μικρασιατική Καταστροφή και την Ανταλλαγή των Πληθυσμών στην Επιστημονική της Επετηρίδα \n  \nΙωάννης Κιορίδης\, Μέλος ΕΔΙΠ Τμήματος Ελληνικής Φιλολογίας ΔΠΘ \nΟ τρίτος τόμος της Επιστημονικής Επετηρίδας της ΣΚΑΣ: συγκρότηση και περιεχόμενα  \n  \nΜΕΡΟΣ Β΄ \nΒραβεία Αριστείας της ΣΚΑΣ \n  \nΕπίδοση Βραβείων Αριστείας της ΣΚΑΣ/ΔΠΘ για το ακαδημαϊκό έτος 2023-2024 από τον Κοσμήτορα Καθηγητή Μ. Γ. Βαρβούνη. \nΑντιφώνηση τιμωμένων. \n  \nΤην εκδήλωση συντονίζει η φιλόλογος Τζένη Κατσαρή-Βαφειάδη \n  \nΨηφιακή έκδοση Επετηρίδας: \nhttps://classic.duth.gr/επιστημονική-επετηρίδα-της-σχολής/ \n  \nprosklisi \nposter
URL:https://classic.duth.gr/event/%ce%b7-%ce%b4%cf%81%ce%ac%cf%83%ce%b7-%cf%84%ce%b7%cf%82-%cf%83%cf%87%ce%bf%ce%bb%ce%ae%cf%82-%ce%ba%ce%bb%ce%b1%cf%83%ce%b9%ce%ba%cf%8e%ce%bd-%ce%ba%ce%b1%ce%b9-%ce%b1%ce%bd%ce%b8%cf%81%cf%89%cf%80/
END:VEVENT
END:VCALENDAR